BEGIN:VCALENDAR
VERSION:2.0
PRODID:icalendar-ruby
CALSCALE:GREGORIAN
BEGIN:VEVENT
DTSTAMP:20260425T165641Z
UID:c3c4e514-a818-44e3-bcb7-aaaebe2a2bb7
DTSTART;VALUE=DATE:20240830
DTEND;VALUE=DATE:20240831
DESCRIPTION:Wear YELLOW and bring a gold coin to donate to the Cancer Socie
 ty
SUMMARY:DAFFODIL DAY
END:VEVENT
END:VCALENDAR
