BEGIN:VCALENDAR
VERSION:2.0
PRODID:icalendar-ruby
CALSCALE:GREGORIAN
BEGIN:VEVENT
DTSTAMP:20260425T165610Z
UID:29c53f72-34f2-459f-8dff-4305505fe99b
DTSTART;VALUE=DATE:20240927
DTEND;VALUE=DATE:20240928
DESCRIPTION:Last day of Term 3
SUMMARY:TERM 3 Ends
END:VEVENT
END:VCALENDAR
