BEGIN:VCALENDAR
VERSION:2.0
PRODID:icalendar-ruby
CALSCALE:GREGORIAN
BEGIN:VEVENT
DTSTAMP:20260425T165612Z
UID:73d3a575-3988-4d10-ac61-66fc212066b0
DTSTART;VALUE=DATE:20241014
DTEND;VALUE=DATE:20241015
SUMMARY:TERM 4 begins
END:VEVENT
END:VCALENDAR
