BEGIN:VCALENDAR
VERSION:2.0
PRODID:icalendar-ruby
CALSCALE:GREGORIAN
BEGIN:VEVENT
DTSTAMP:20260425T165536Z
UID:67c60e09-61c8-4cd3-bc5e-3e8a22ff5ff2
DTSTART;VALUE=DATE:20241202
DTEND;VALUE=DATE:20241207
DESCRIPTION:Year 6 go to Waihola for the week and our Year 5's spend the we
 ek having lots of fun doing local activities.
SUMMARY:Camp / Activity Week
END:VEVENT
END:VCALENDAR
