BEGIN:VCALENDAR
VERSION:2.0
PRODID:icalendar-ruby
CALSCALE:GREGORIAN
BEGIN:VEVENT
DTSTAMP:20260425T165535Z
UID:fffe55e5-0c32-4884-a17b-2579ec779bb8
DTSTART:20241219T200000Z
DTEND:20241219T235001Z
DESCRIPTION:Half day only - school finishes at 12.50pm
SUMMARY:LAST DAY FOR 2024
END:VEVENT
END:VCALENDAR
