BEGIN:VCALENDAR
VERSION:2.0
PRODID:icalendar-ruby
CALSCALE:GREGORIAN
BEGIN:VEVENT
DTSTAMP:20260425T165611Z
UID:e35962e8-4e69-4875-b263-b9c59ab6fb5f
DTSTART:20240819T040000Z
DTEND:20240819T050001Z
DESCRIPTION:For those that qualified from the Waikouaiti X Country
LOCATION:Waikouaiti Sports Grounds
SUMMARY:North Otago Cross Country
END:VEVENT
END:VCALENDAR
