BEGIN:VCALENDAR
VERSION:2.0
PRODID:icalendar-ruby
CALSCALE:GREGORIAN
BEGIN:VEVENT
DTSTAMP:20260425T165535Z
UID:067e0706-c5f1-4d77-a53c-374f65baa2b0
DTSTART:20240806T033000Z
DTEND:20240807T070001Z
DESCRIPTION:A notice will go home prior to Friday 26th July at which time y
 ou will be able to book online via the HERO app.
SUMMARY:Parent/Teacher Mid Year Conferences
END:VEVENT
END:VCALENDAR
