BEGIN:VCALENDAR
VERSION:2.0
PRODID:icalendar-ruby
CALSCALE:GREGORIAN
BEGIN:VEVENT
DTSTAMP:20260425T165642Z
UID:806eaa01-e6be-4acf-89a6-ec547462add8
DTSTART;VALUE=DATE:20240827
DTEND;VALUE=DATE:20240828
SUMMARY:Netball Tournament - Year 5/6
END:VEVENT
END:VCALENDAR
