BEGIN:VCALENDAR
VERSION:2.0
PRODID:icalendar-ruby
CALSCALE:GREGORIAN
BEGIN:VEVENT
DTSTAMP:20260425T165642Z
UID:965b8d3c-2ab0-4250-82e1-4c01c0b111f4
DTSTART;VALUE=DATE:20240828
DTEND;VALUE=DATE:20240829
DESCRIPTION:Year 3/4 and Year 5/6
SUMMARY:RIPPA RUGBY TOURNAMENT - DUNEDIN
END:VEVENT
END:VCALENDAR
