BEGIN:VCALENDAR
VERSION:2.0
PRODID:icalendar-ruby
CALSCALE:GREGORIAN
BEGIN:VEVENT
DTSTAMP:20260425T165536Z
UID:711e9d62-d38d-4aa3-a31b-fe6bed65bcfd
DTSTART;VALUE=DATE:20240805
DTEND;VALUE=DATE:20240806
SUMMARY:EOHS Open Day
END:VEVENT
END:VCALENDAR
