BEGIN:VCALENDAR
VERSION:2.0
PRODID:icalendar-ruby
CALSCALE:GREGORIAN
BEGIN:VEVENT
DTSTAMP:20260425T165610Z
UID:83c0a1cd-dfec-46df-97f4-155c237c8818
DTSTART:20240816T030000Z
DTEND:20240816T050001Z
SUMMARY:WORKING BEE
END:VEVENT
END:VCALENDAR
