BEGIN:VCALENDAR
VERSION:2.0
PRODID:icalendar-ruby
CALSCALE:GREGORIAN
BEGIN:VEVENT
DTSTAMP:20260425T165611Z
UID:4c652419-1c07-4c73-8ccb-7db693611834
DTSTART;VALUE=DATE:20240815
DTEND;VALUE=DATE:20240816
DESCRIPTION:Just for fun - get CREATIVE with your HAIR - put those thinking
  caps on and come up with something different!!
SUMMARY:Creative Hair Day
END:VEVENT
END:VCALENDAR
